BEGIN:VCALENDAR
VERSION:2.0
PRODID:-//RHAA - ECPv6.15.18//NONSGML v1.0//EN
CALSCALE:GREGORIAN
METHOD:PUBLISH
X-WR-CALNAME:RHAA
X-ORIGINAL-URL:https://rhaa.org
X-WR-CALDESC:Events for RHAA
REFRESH-INTERVAL;VALUE=DURATION:PT1H
X-Robots-Tag:noindex
X-PUBLISHED-TTL:PT1H
BEGIN:VTIMEZONE
TZID:America/Chicago
BEGIN:DAYLIGHT
TZOFFSETFROM:-0600
TZOFFSETTO:-0500
TZNAME:CDT
DTSTART:20220313T080000
END:DAYLIGHT
BEGIN:STANDARD
TZOFFSETFROM:-0500
TZOFFSETTO:-0600
TZNAME:CST
DTSTART:20221106T070000
END:STANDARD
BEGIN:DAYLIGHT
TZOFFSETFROM:-0600
TZOFFSETTO:-0500
TZNAME:CDT
DTSTART:20230312T080000
END:DAYLIGHT
BEGIN:STANDARD
TZOFFSETFROM:-0500
TZOFFSETTO:-0600
TZNAME:CST
DTSTART:20231105T070000
END:STANDARD
BEGIN:DAYLIGHT
TZOFFSETFROM:-0600
TZOFFSETTO:-0500
TZNAME:CDT
DTSTART:20240310T080000
END:DAYLIGHT
BEGIN:STANDARD
TZOFFSETFROM:-0500
TZOFFSETTO:-0600
TZNAME:CST
DTSTART:20241103T070000
END:STANDARD
BEGIN:DAYLIGHT
TZOFFSETFROM:-0600
TZOFFSETTO:-0500
TZNAME:CDT
DTSTART:20250309T080000
END:DAYLIGHT
BEGIN:STANDARD
TZOFFSETFROM:-0500
TZOFFSETTO:-0600
TZNAME:CST
DTSTART:20251102T070000
END:STANDARD
BEGIN:DAYLIGHT
TZOFFSETFROM:-0600
TZOFFSETTO:-0500
TZNAME:CDT
DTSTART:20260308T080000
END:DAYLIGHT
BEGIN:STANDARD
TZOFFSETFROM:-0500
TZOFFSETTO:-0600
TZNAME:CST
DTSTART:20261101T070000
END:STANDARD
END:VTIMEZONE
BEGIN:VEVENT
DTSTART;VALUE=DATE:20250531
DTEND;VALUE=DATE:20250601
DTSTAMP:20260424T082754
CREATED:20241230T195953Z
LAST-MODIFIED:20250516T134311Z
UID:10000131-1748649600-1748735999@rhaa.org
SUMMARY:Childress Ranch Horse Competition
DESCRIPTION:Childress Ranch Horse Competition\nMay 31\, 2025\nChildress\, TX | Mashburn Event Center\nStart time: 9 am\nJudge: Bozo Rogers\nOnline entry form\nEntries close May 23rd.\nLimited stalls & RV spots available for $35/night. \nClass Order and Entry Fees: \n\nWrangler – $150\nCowboy – $150\nRanch Hand – $150\nJunior – $150\nSenior – $150\n*Open – $150\n*BDBD – $150\nNovice BDBD – $150\nJunior Youth – $150\nSenior Youth – $150\n\n* Not an RHAA sanctioned class * \nSHOOTOUT ROUND: Buy-in for $250\nWinners from the Wrangler\, Cowboy\, Ranch Hand\, Junior\, and Senior will automatically advance. Competitors can buy in to compete in shootout round.\nQuestions? Contact the show secretary:\nAshley Tovar\nPhone: (254) 784-3933 \nRod Brents\nPhone: (325) 513-4135
URL:https://rhaa.org/event/childress-rhaa/
LOCATION:Mashburn Event Center\, 1100 7th Street\, Childress\, TX\, 79201
ORGANIZER;CN="Rod Brents":MAILTO:rafter7.rod@gmail.com
END:VEVENT
BEGIN:VEVENT
DTSTART;VALUE=DATE:20240531
DTEND;VALUE=DATE:20240602
DTSTAMP:20260424T082754
CREATED:20240430T022110Z
LAST-MODIFIED:20240918T150516Z
UID:10000121-1717113600-1717286399@rhaa.org
SUMMARY:Childress RHAA & Ranch Cutting
DESCRIPTION:Childress RHAA & Ranch Cutting\nMay 31 – June 1\, 2024\nCheck in: 8 a.m. \nMashburn Event Center| Childress\, TX\nJudge: Ricky Piggott \nRHAA Pattern 3 \nENTRY FORM HERE \n** Click here to see the Childress RHAA & Ranch Cutting Flyer **  \nClass Order and Entry Fees:\n\nWrangler – $175\nCowboy – $175\nRanch Hand – $175\nJunior – $175\nSenior – $175\nNovice BDBD – $150\nBDBD – $150\nJunior Youth – $125\nSenior Youth – $125\n\nAwards\nBuckles in all classes! Class winners will compete in the Zinn Lindsey Memorial Shootout (excluding BDBD and Jr. Youth) for $2\,000 in added money! \nQuestions?\nContact this show’s secretary: \n\nMaci Spillars\nPhone: 806-202-6648\nMailing address: 37207 FM 1721\, Happy\, Texas 79042
URL:https://rhaa.org/event/childress-rhaa-ranch-cutting/
LOCATION:Mashburn Event Center\, 1100 7th Street\, Childress\, TX\, 79201
ORGANIZER;CN="Maci Spillers":MAILTO:mspillers@happyisd.net
END:VEVENT
BEGIN:VEVENT
DTSTART;VALUE=DATE:20230617
DTEND;VALUE=DATE:20230618
DTSTAMP:20260424T082754
CREATED:20230526T205709Z
LAST-MODIFIED:20230526T210146Z
UID:10000095-1686960000-1687046399@rhaa.org
SUMMARY:Childress Ranch Horse Competition
DESCRIPTION:Childress Ranch Horse Competition\nJune 16: Ranch Cutting (not RHAA-sanctioned) | Start time: 5 p.m.\nJune 17: RHAA Show | Start time: 10 a.m. \nMashburn Event Center | Childress\, Texas\nJudge: Ricky Piggott \nRHAA Pattern #4 \nONLINE ENTRY FORM HERE \nClick here to see the flyer\, which includes information on the ranch cutting and awards! \n  \nENTRY FEES AND CLASS ORDER: \n\nWRANGLER – $150\nCOWBOY – $150\nRANCH HAND – $150\nJUNIOR – $150\nSENIOR – $150\nBDBD – $150\nNOVICE BDBD – $150\nJUNIOR YOUTH – $100\nSENIOR YOUTH – $100\n\n**Pay entry fees at the show. \nCONTACT INFO \n\nRod Brents\n\nPhone: 325-513-4135\nEmail: rafter7.rod@gmail.com
URL:https://rhaa.org/event/childress-ranch-horse-competition/
LOCATION:Mashburn Event Center\, 1100 7th Street\, Childress\, TX\, 79201
ORGANIZER;CN="Rod Brents":MAILTO:rafter7.rod@gmail.com
END:VEVENT
END:VCALENDAR