BEGIN:VCALENDAR
VERSION:2.0
PRODID:-//RHAA - ECPv6.15.18//NONSGML v1.0//EN
CALSCALE:GREGORIAN
METHOD:PUBLISH
X-WR-CALNAME:RHAA
X-ORIGINAL-URL:https://rhaa.org
X-WR-CALDESC:Events for RHAA
REFRESH-INTERVAL;VALUE=DURATION:PT1H
X-Robots-Tag:noindex
X-PUBLISHED-TTL:PT1H
BEGIN:VTIMEZONE
TZID:America/Chicago
BEGIN:DAYLIGHT
TZOFFSETFROM:-0600
TZOFFSETTO:-0500
TZNAME:CDT
DTSTART:20240310T080000
END:DAYLIGHT
BEGIN:STANDARD
TZOFFSETFROM:-0500
TZOFFSETTO:-0600
TZNAME:CST
DTSTART:20241103T070000
END:STANDARD
BEGIN:DAYLIGHT
TZOFFSETFROM:-0600
TZOFFSETTO:-0500
TZNAME:CDT
DTSTART:20250309T080000
END:DAYLIGHT
BEGIN:STANDARD
TZOFFSETFROM:-0500
TZOFFSETTO:-0600
TZNAME:CST
DTSTART:20251102T070000
END:STANDARD
BEGIN:DAYLIGHT
TZOFFSETFROM:-0600
TZOFFSETTO:-0500
TZNAME:CDT
DTSTART:20260308T080000
END:DAYLIGHT
BEGIN:STANDARD
TZOFFSETFROM:-0500
TZOFFSETTO:-0600
TZNAME:CST
DTSTART:20261101T070000
END:STANDARD
END:VTIMEZONE
BEGIN:VEVENT
DTSTART;VALUE=DATE:20250719
DTEND;VALUE=DATE:20250720
DTSTAMP:20260423T152414
CREATED:20250603T012851Z
LAST-MODIFIED:20250603T012851Z
UID:10000138-1752883200-1752969599@rhaa.org
SUMMARY:Texas Ranch Roundup
DESCRIPTION:Texas Ranch Roundup Ranch Horse Competition\nJuly 19\, 2025\nWichita Falls\, TX | MPEC – Kay Yeager Coliseum\nStart time: 7 a.m.\nJudge: Ricky Piggott\nClass Order and Entry Fees:\n*LIMITED ENTRIES* \n\nWrangler – $150\nCowboy – $150\nRanch Hand – $150\nJunior – $150\nSenior – $150\nNovice BDBD – $150\nJunior Youth – $150\nSenior Youth – $150\nBFR Senior Horse – $150\nBFR Junior Horse – $150\nBFR Senior Youth – $150\nBFR Junior Youth – $150\n\n* Not an RHAA sanctioned class * \n  \nQuestions? Contact the show secretary:\nKelli Morgan\nPhone: (580) 8125-2839\nEmail: lovingranchllc@gmail.com \n 
URL:https://rhaa.org/event/texas-ranch-roundup/
LOCATION:Kay Yeager Coliseum\, 1000 5th St\, Wichita Falls\, TX\, 76301\, United States
ORGANIZER;CN="Kelli Morgan":MAILTO:lovingranchllc@gmail.com
GEO:33.9140811;-98.4982187
X-APPLE-STRUCTURED-LOCATION;VALUE=URI;X-ADDRESS=Kay Yeager Coliseum 1000 5th St Wichita Falls TX 76301 United States;X-APPLE-RADIUS=500;X-TITLE=1000 5th St:geo:-98.4982187,33.9140811
END:VEVENT
END:VCALENDAR