BEGIN:VCALENDAR
VERSION:2.0
PRODID:-//RHAA - ECPv6.15.18//NONSGML v1.0//EN
CALSCALE:GREGORIAN
METHOD:PUBLISH
X-ORIGINAL-URL:https://rhaa.org
X-WR-CALDESC:Events for RHAA
REFRESH-INTERVAL;VALUE=DURATION:PT1H
X-Robots-Tag:noindex
X-PUBLISHED-TTL:PT1H
BEGIN:VTIMEZONE
TZID:America/Chicago
BEGIN:DAYLIGHT
TZOFFSETFROM:-0600
TZOFFSETTO:-0500
TZNAME:CDT
DTSTART:20240310T080000
END:DAYLIGHT
BEGIN:STANDARD
TZOFFSETFROM:-0500
TZOFFSETTO:-0600
TZNAME:CST
DTSTART:20241103T070000
END:STANDARD
BEGIN:DAYLIGHT
TZOFFSETFROM:-0600
TZOFFSETTO:-0500
TZNAME:CDT
DTSTART:20250309T080000
END:DAYLIGHT
BEGIN:STANDARD
TZOFFSETFROM:-0500
TZOFFSETTO:-0600
TZNAME:CST
DTSTART:20251102T070000
END:STANDARD
BEGIN:DAYLIGHT
TZOFFSETFROM:-0600
TZOFFSETTO:-0500
TZNAME:CDT
DTSTART:20260308T080000
END:DAYLIGHT
BEGIN:STANDARD
TZOFFSETFROM:-0500
TZOFFSETTO:-0600
TZNAME:CST
DTSTART:20261101T070000
END:STANDARD
END:VTIMEZONE
BEGIN:VEVENT
DTSTART;VALUE=DATE:20250329
DTEND;VALUE=DATE:20250330
DTSTAMP:20260423T064655
CREATED:20241205T173644Z
LAST-MODIFIED:20250225T032817Z
UID:10000130-1743206400-1743292799@rhaa.org
SUMMARY:Waurika Ranch Horse Competition
DESCRIPTION:Waurika Ranch Horse Competition\nMarch 29\, 2025\nWaurika\, OK | Coyote Hills Arena\nStart time: 10 a.m.\nJudge: Al Thomason\nOnline entry form\nEntries close March 22nd. \nClass Order and Entry Fees: \n\nWrangler – $150\nCowboy – $150\nRanch Hand – $150\nJunior – $150\nSenior – $150\nNovice BDBD – $150\n*BDBD – $150\nJunior Youth – $150\nSenior Youth – $150\n\n* No longer an RHAA sanctioned class * \n  \nQuestions? Contact the show secretary: \n\nKelli Morgan\nPhone: 580-812-2839\nEmail: lovingranchllc@gmail.com
URL:https://rhaa.org/event/waurika-ranch-horse-competition-2/
LOCATION:Coyote Hills Rex Dunn Arena\, Waurika\, OK\, 73573\, United States
ORGANIZER;CN="Kelli Morgan":MAILTO:lovingranchllc@gmail.com
END:VEVENT
END:VCALENDAR