BEGIN:VCALENDAR
VERSION:2.0
PRODID:-//RHAA - ECPv6.15.18//NONSGML v1.0//EN
CALSCALE:GREGORIAN
METHOD:PUBLISH
X-WR-CALNAME:RHAA
X-ORIGINAL-URL:https://rhaa.org
X-WR-CALDESC:Events for RHAA
REFRESH-INTERVAL;VALUE=DURATION:PT1H
X-Robots-Tag:noindex
X-PUBLISHED-TTL:PT1H
BEGIN:VTIMEZONE
TZID:America/Chicago
BEGIN:DAYLIGHT
TZOFFSETFROM:-0600
TZOFFSETTO:-0500
TZNAME:CDT
DTSTART:20210314T080000
END:DAYLIGHT
BEGIN:STANDARD
TZOFFSETFROM:-0500
TZOFFSETTO:-0600
TZNAME:CST
DTSTART:20211107T070000
END:STANDARD
BEGIN:DAYLIGHT
TZOFFSETFROM:-0600
TZOFFSETTO:-0500
TZNAME:CDT
DTSTART:20220313T080000
END:DAYLIGHT
BEGIN:STANDARD
TZOFFSETFROM:-0500
TZOFFSETTO:-0600
TZNAME:CST
DTSTART:20221106T070000
END:STANDARD
BEGIN:DAYLIGHT
TZOFFSETFROM:-0600
TZOFFSETTO:-0500
TZNAME:CDT
DTSTART:20230312T080000
END:DAYLIGHT
BEGIN:STANDARD
TZOFFSETFROM:-0500
TZOFFSETTO:-0600
TZNAME:CST
DTSTART:20231105T070000
END:STANDARD
END:VTIMEZONE
BEGIN:VEVENT
DTSTART;VALUE=DATE:20220918
DTEND;VALUE=DATE:20220919
DTSTAMP:20260423T115628
CREATED:20220805T233152Z
LAST-MODIFIED:20220818T173308Z
UID:10000041-1663459200-1663545599@rhaa.org
SUMMARY:Amarillo\, TX
DESCRIPTION:Amarillo Tri-State Fair & Rodeo Ranch Horse Competition\nSeptember 18\, 2022 | 8:00 A.M.\nBilly Cody Arena\nAmarillo\, TX\nJudge: Lance Baker\n  \nENTRY FEES \n\nNOVICE BDBD – $120\nOPEN BDBD – $120\nWRANGLER – $150\nCOWBOY – $150\nRANCH HAND – $150\nJUNIOR – $150\nSENIOR – $150\nJUNIOR YOUTH – $100\nSENIOR YOUTH – $100\n\nCLASS ORDER  \nWrangler\, Cowboy\, Ranch Hand\, Junior\, Senior\, Open BDBD\, Novice BDBD\, Junior Youth\, Senior Youth \nTri-State Fair & Rodeo Ranch Horse Competition Entry Form\nBooks close September 1\, 2022 \nCONTACT INFO \n\nKelsey Coon\n\nPhone: 806-656-1511\nEmail: kwatring17@yahoo.com\nMailing address:\n3301 SE 10th Ave\nAmarillo\, TX 79104
URL:https://rhaa.org/event/amarillo-tx/
LOCATION:Bill Cody Arena\, 3301 SE 10th Avenue\, Amarillo\, TX\, 79104
ORGANIZER;CN="Kelsey Coon":MAILTO:kwatring17@yahoo.com
END:VEVENT
END:VCALENDAR