BEGIN:VCALENDAR
VERSION:2.0
PRODID:-//RHAA - ECPv6.15.18//NONSGML v1.0//EN
CALSCALE:GREGORIAN
METHOD:PUBLISH
X-ORIGINAL-URL:https://rhaa.org
X-WR-CALDESC:Events for RHAA
REFRESH-INTERVAL;VALUE=DURATION:PT1H
X-Robots-Tag:noindex
X-PUBLISHED-TTL:PT1H
BEGIN:VTIMEZONE
TZID:America/Chicago
BEGIN:DAYLIGHT
TZOFFSETFROM:-0600
TZOFFSETTO:-0500
TZNAME:CDT
DTSTART:20210314T080000
END:DAYLIGHT
BEGIN:STANDARD
TZOFFSETFROM:-0500
TZOFFSETTO:-0600
TZNAME:CST
DTSTART:20211107T070000
END:STANDARD
BEGIN:DAYLIGHT
TZOFFSETFROM:-0600
TZOFFSETTO:-0500
TZNAME:CDT
DTSTART:20220313T080000
END:DAYLIGHT
BEGIN:STANDARD
TZOFFSETFROM:-0500
TZOFFSETTO:-0600
TZNAME:CST
DTSTART:20221106T070000
END:STANDARD
BEGIN:DAYLIGHT
TZOFFSETFROM:-0600
TZOFFSETTO:-0500
TZNAME:CDT
DTSTART:20230312T080000
END:DAYLIGHT
BEGIN:STANDARD
TZOFFSETFROM:-0500
TZOFFSETTO:-0600
TZNAME:CST
DTSTART:20231105T070000
END:STANDARD
END:VTIMEZONE
BEGIN:VEVENT
DTSTART;VALUE=DATE:20220910
DTEND;VALUE=DATE:20220911
DTSTAMP:20260423T153556
CREATED:20220715T202618Z
LAST-MODIFIED:20220909T210347Z
UID:10000019-1662768000-1662854399@rhaa.org
SUMMARY:Eastland\, TX
DESCRIPTION:Leon River Ranch Horse Competition \nFour Show Series\nSeptember 10\, 2022\nCheck in at 8:30 a.m. | Start at 10:00 a.m.\nLeon River Cowboy Church Arena | Eastland\, TX\nJudge: Al Thomason\nThe four-show series is partnered with M Bar W Ranch. It consists of: \n\nSeptember 10\, 2022 — located at Leon River Cowboy Church\nOctober 15\, 2022 — located at M Bar W Ranch\nMarch 4\, 2023 — located at M Bar W Ranch\nApril 1\, 2023 — located at Leon River Cowboy Church\n\n*Must compete in three of the four shows to be eligible for the overall awards\, which will be presented April 1\, 2023. Awards and rules to be announced. \n**Cumulative scores of three shows for first and second place awards. \n***There will be payouts for all four shows. \nOn April 1\, 2023\, there will be a Shoot Out between competitors who had the highest cumulative scores from three of the four shows. The Shoot Out is open to Wrangler\, Cowboy\, Ranch Hand\, Junior\, and Senior. \nENTRY FEES \n\nNOVICE BDBD – $100\nOPEN BDBD – $100\nWRANGLER – $100\nCOWBOY – $150\nRANCH HAND – $175\nJUNIOR – $175\nSENIOR – $175\nJUNIOR YOUTH – $75\nSENIOR YOUTH – $75\n\nCLASS ORDER \nSenior\, Junior\, Ranch Hand\, Cowboy\, Wrangler\, BDBD\, Novice BDBD\, Senior Youth\, Junior Youth \nPattern 6: Junior Youth\, Senior Youth\, Novice BDBD\, BDBD\, Wrangler \nPattern 3: Cowboy\, Ranch Hand\, Junior\, Senior \nContact Jennifer Franklin to enter. Click HERE to see show flyer.\nBooks close September 7\, 2022 \nCONTACT INFO \n\nJennifer Franklin\n\nPhone: 530-961-2606\nEmail:dukifer.franklin@yahoo.com\nMailing address:\n1042 CR 389\nGorman\, TX 76454\n\n\n\n 
URL:https://rhaa.org/event/eastland-tx-4/
LOCATION:Leon River Cowboy Church Arena\, 8787 Interstate 20 Access Rd\, Eastland\, TX\, United States
ORGANIZER;CN="Jennifer Franklin":MAILTO:dukifer.franklin@yahoo.com
GEO:32.4143144;-98.7453779
X-APPLE-STRUCTURED-LOCATION;VALUE=URI;X-ADDRESS=Leon River Cowboy Church Arena 8787 Interstate 20 Access Rd Eastland TX United States;X-APPLE-RADIUS=500;X-TITLE=8787 Interstate 20 Access Rd:geo:-98.7453779,32.4143144
END:VEVENT
END:VCALENDAR