BEGIN:VCALENDAR
VERSION:2.0
PRODID:-//RHAA - ECPv6.15.18//NONSGML v1.0//EN
CALSCALE:GREGORIAN
METHOD:PUBLISH
X-WR-CALNAME:RHAA
X-ORIGINAL-URL:https://rhaa.org
X-WR-CALDESC:Events for RHAA
REFRESH-INTERVAL;VALUE=DURATION:PT1H
X-Robots-Tag:noindex
X-PUBLISHED-TTL:PT1H
BEGIN:VTIMEZONE
TZID:America/Chicago
BEGIN:DAYLIGHT
TZOFFSETFROM:-0600
TZOFFSETTO:-0500
TZNAME:CDT
DTSTART:20210314T080000
END:DAYLIGHT
BEGIN:STANDARD
TZOFFSETFROM:-0500
TZOFFSETTO:-0600
TZNAME:CST
DTSTART:20211107T070000
END:STANDARD
BEGIN:DAYLIGHT
TZOFFSETFROM:-0600
TZOFFSETTO:-0500
TZNAME:CDT
DTSTART:20220313T080000
END:DAYLIGHT
BEGIN:STANDARD
TZOFFSETFROM:-0500
TZOFFSETTO:-0600
TZNAME:CST
DTSTART:20221106T070000
END:STANDARD
BEGIN:DAYLIGHT
TZOFFSETFROM:-0600
TZOFFSETTO:-0500
TZNAME:CDT
DTSTART:20230312T080000
END:DAYLIGHT
BEGIN:STANDARD
TZOFFSETFROM:-0500
TZOFFSETTO:-0600
TZNAME:CST
DTSTART:20231105T070000
END:STANDARD
END:VTIMEZONE
BEGIN:VEVENT
DTSTART;VALUE=DATE:20220826
DTEND;VALUE=DATE:20220827
DTSTAMP:20260423T170510
CREATED:20220715T200009Z
LAST-MODIFIED:20220823T172257Z
UID:10000018-1661472000-1661558399@rhaa.org
SUMMARY:Roaring Springs\, TX
DESCRIPTION:Roaring Springs Old Settlers Ranch Horse Competition\nAUGUST 26\, 2022 | 8:00 A.M.\nOld Settlers Arena\nRoaring Springs\, TX\nJudge: Kerry Wink\n  \nENTRY FEES \n\nNOVICE BDBD – $100\nOPEN BDBD – $100\nWRANGLER – $150\nCOWBOY – $150\nRANCH HAND – $150\nJUNIOR – $150\nSENIOR – $150\nJUNIOR YOUTH – $90\nSENIOR YOUTH – $90\n\nCLASS ORDER | RHAA Pattern 5  \nWrangler\, Cowboy\, Ranch Hand\, Junior\, Senior\, Open BDBD\, Novice BDBD\, Junior Youth\, Senior Youth \n{BOOKS FULL} ROARING SPRINGS OLD SETTLERS ONLINE ENTRY FORM\nBooks close August 22\, 2022 \nCONTACT INFO \n\nEmily Smith\n\nPhone: 806-269-3328\nEmail: smithbarrelhorses@yahoo.com\nMailing address:\n1741 State Highway 70\nSpur\, TX 79370\n\n\n\n 
URL:https://rhaa.org/event/roaring-springs-tx-2/
LOCATION:Old Settlers Rodeo Grounds\, Roaring Springs\, TX\, 79256\, United States
ORGANIZER;CN="Emily Smith":MAILTO:smithbarrelhorses@yahoo.com
GEO:33.8995237;-100.85708
END:VEVENT
END:VCALENDAR