BEGIN:VCALENDAR
VERSION:2.0
PRODID:-//RHAA - ECPv6.15.18//NONSGML v1.0//EN
CALSCALE:GREGORIAN
METHOD:PUBLISH
X-WR-CALNAME:RHAA
X-ORIGINAL-URL:https://rhaa.org
X-WR-CALDESC:Events for RHAA
REFRESH-INTERVAL;VALUE=DURATION:PT1H
X-Robots-Tag:noindex
X-PUBLISHED-TTL:PT1H
BEGIN:VTIMEZONE
TZID:America/Chicago
BEGIN:DAYLIGHT
TZOFFSETFROM:-0600
TZOFFSETTO:-0500
TZNAME:CDT
DTSTART:20210314T080000
END:DAYLIGHT
BEGIN:STANDARD
TZOFFSETFROM:-0500
TZOFFSETTO:-0600
TZNAME:CST
DTSTART:20211107T070000
END:STANDARD
BEGIN:DAYLIGHT
TZOFFSETFROM:-0600
TZOFFSETTO:-0500
TZNAME:CDT
DTSTART:20220313T080000
END:DAYLIGHT
BEGIN:STANDARD
TZOFFSETFROM:-0500
TZOFFSETTO:-0600
TZNAME:CST
DTSTART:20221106T070000
END:STANDARD
BEGIN:DAYLIGHT
TZOFFSETFROM:-0600
TZOFFSETTO:-0500
TZNAME:CDT
DTSTART:20230312T080000
END:DAYLIGHT
BEGIN:STANDARD
TZOFFSETFROM:-0500
TZOFFSETTO:-0600
TZNAME:CST
DTSTART:20231105T070000
END:STANDARD
END:VTIMEZONE
BEGIN:VEVENT
DTSTART;VALUE=DATE:20220716
DTEND;VALUE=DATE:20220717
DTSTAMP:20260423T185328
CREATED:20220527T032135Z
LAST-MODIFIED:20220715T203215Z
UID:10000016-1657929600-1658015999@rhaa.org
SUMMARY:Wichita Falls\, TX
DESCRIPTION:TEXAS RANCH ROUNDUP \nRANCH HORSE COMPETITION\nJULY 16\, 2022 | 7:30 A.M.\n1000 5TH STREET | KAY YEAGER COLISEUM\nWICHITA FALLS\, TX\n  \nENTRY FEES \n\nNOVICE BDBD – $75\nOPEN BDBD – $110\nWRANGLER – $110\nCOWBOY – $110\nRANCH HAND – $110\nJUNIOR – $110\nSENIOR – $110\n\nCLASS ORDER \nWrangler\, Cowboy\, Ranch Hand\, Junior\, Senior\, BDBD. Click HERE to see the approved pattern. \nBooks open June 1st – July 8th\, or until books are full. \nEntries limited to the first 50 received. \nEntries are closed. Please call Kelli Morgan to be put on a waitlist.\nCONTACT INFO \n\nKelli Morgan\n\nPhone – 580.812.2839\nAlt. phone – 580.465.9352\nEmail – kellinea@hotmail.com\n\n\n\n 
URL:https://rhaa.org/event/wichita-falls-tx-2/
LOCATION:Kay Yeager Coliseum\, 1000 5th St\, Wichita Falls\, TX\, 76301\, United States
ORGANIZER;CN="Kelli Morgan":MAILTO:lovingranchllc@gmail.com
GEO:33.9140811;-98.4982187
X-APPLE-STRUCTURED-LOCATION;VALUE=URI;X-ADDRESS=Kay Yeager Coliseum 1000 5th St Wichita Falls TX 76301 United States;X-APPLE-RADIUS=500;X-TITLE=1000 5th St:geo:-98.4982187,33.9140811
END:VEVENT
END:VCALENDAR