BEGIN:VCALENDAR
VERSION:2.0
PRODID:-//RHAA - ECPv6.15.18//NONSGML v1.0//EN
CALSCALE:GREGORIAN
METHOD:PUBLISH
X-ORIGINAL-URL:https://rhaa.org
X-WR-CALDESC:Events for RHAA
REFRESH-INTERVAL;VALUE=DURATION:PT1H
X-Robots-Tag:noindex
X-PUBLISHED-TTL:PT1H
BEGIN:VTIMEZONE
TZID:America/Chicago
BEGIN:DAYLIGHT
TZOFFSETFROM:-0600
TZOFFSETTO:-0500
TZNAME:CDT
DTSTART:20210314T080000
END:DAYLIGHT
BEGIN:STANDARD
TZOFFSETFROM:-0500
TZOFFSETTO:-0600
TZNAME:CST
DTSTART:20211107T070000
END:STANDARD
BEGIN:DAYLIGHT
TZOFFSETFROM:-0600
TZOFFSETTO:-0500
TZNAME:CDT
DTSTART:20220313T080000
END:DAYLIGHT
BEGIN:STANDARD
TZOFFSETFROM:-0500
TZOFFSETTO:-0600
TZNAME:CST
DTSTART:20221106T070000
END:STANDARD
BEGIN:DAYLIGHT
TZOFFSETFROM:-0600
TZOFFSETTO:-0500
TZNAME:CDT
DTSTART:20230312T080000
END:DAYLIGHT
BEGIN:STANDARD
TZOFFSETFROM:-0500
TZOFFSETTO:-0600
TZNAME:CST
DTSTART:20231105T070000
END:STANDARD
END:VTIMEZONE
BEGIN:VEVENT
DTSTART;VALUE=DATE:20220604
DTEND;VALUE=DATE:20220605
DTSTAMP:20260423T170633
CREATED:20220526T213253Z
LAST-MODIFIED:20220715T203244Z
UID:10000015-1654300800-1654387199@rhaa.org
SUMMARY:Haskell\, TX
DESCRIPTION:WILD HORSE PRAIRIE\nRANCH HORSE COMPETITION\nJUNE 4\, 2022\nSTART TIME | 9:00 A.M.\nHASKELL RODEO GROUNDS – HASKELL\, TX\n  \nENTRY FEES \n\nJUNIOR YOUTH – $75\nSENIOR YOUTH – $75\nNOVICE BDBD – $135\nOPEN BDBD – $150\nWRANGLER – $150\nCOWBOY – $150\nRANCH HAND – $150\nJUNIOR – $150\nSENIOR – $150\n\nCLASS ORDER \n\nWRANGLER\nCOWBOY\nRANCH HAND\nJUNIOR\nSENIOR\nBDBD (Novice & Open will run as a class within a class)\nJR YOUTH\nSR YOUTH\n\nCHAMPION RUNOFF \n\nEach class champion will compete in a “winners runoff” immediately following the ranch rodeo.\nOverall winner will receive a saddle.\n\n  \nOnline Entry Form \nEntry deadline: Noon – June 3\, 2022 \n  \nCONTACT INFO \n\nKatie Frank\n\n425-876-2431\nEmail – ranchhorseassociation@yahoo.com
URL:https://rhaa.org/event/haskell-tx-2/
LOCATION:Haskell Arena\, 200 S. 2nd E.\, Haskell\, TX\, 79521\, United States
GEO:33.1576031;-99.7337014
X-APPLE-STRUCTURED-LOCATION;VALUE=URI;X-ADDRESS=Haskell Arena 200 S. 2nd E. Haskell TX 79521 United States;X-APPLE-RADIUS=500;X-TITLE=200 S. 2nd E.:geo:-99.7337014,33.1576031
END:VEVENT
END:VCALENDAR