BEGIN:VCALENDAR
VERSION:2.0
PRODID:-//RHAA - ECPv6.15.18//NONSGML v1.0//EN
CALSCALE:GREGORIAN
METHOD:PUBLISH
X-WR-CALNAME:RHAA
X-ORIGINAL-URL:https://rhaa.org
X-WR-CALDESC:Events for RHAA
REFRESH-INTERVAL;VALUE=DURATION:PT1H
X-Robots-Tag:noindex
X-PUBLISHED-TTL:PT1H
BEGIN:VTIMEZONE
TZID:America/Chicago
BEGIN:DAYLIGHT
TZOFFSETFROM:-0600
TZOFFSETTO:-0500
TZNAME:CDT
DTSTART:20200308T080000
END:DAYLIGHT
BEGIN:STANDARD
TZOFFSETFROM:-0500
TZOFFSETTO:-0600
TZNAME:CST
DTSTART:20201101T070000
END:STANDARD
BEGIN:DAYLIGHT
TZOFFSETFROM:-0600
TZOFFSETTO:-0500
TZNAME:CDT
DTSTART:20210314T080000
END:DAYLIGHT
BEGIN:STANDARD
TZOFFSETFROM:-0500
TZOFFSETTO:-0600
TZNAME:CST
DTSTART:20211107T070000
END:STANDARD
BEGIN:DAYLIGHT
TZOFFSETFROM:-0600
TZOFFSETTO:-0500
TZNAME:CDT
DTSTART:20220313T080000
END:DAYLIGHT
BEGIN:STANDARD
TZOFFSETFROM:-0500
TZOFFSETTO:-0600
TZNAME:CST
DTSTART:20221106T070000
END:STANDARD
END:VTIMEZONE
BEGIN:VEVENT
DTSTART;VALUE=DATE:20211024
DTEND;VALUE=DATE:20211025
DTSTAMP:20260424T100239
CREATED:20210806T073816Z
LAST-MODIFIED:20210806T073923Z
UID:10000077-1635033600-1635119999@rhaa.org
SUMMARY:CHINO VALLEY\, AZ
DESCRIPTION:OLSEN’S RANCH HORSE FALL SHOW\nOCTOBER 24\, 2021 | 10:00 A.M.\n344 S HWY 89  \nCHINO VALLEY\, AZ \nENTRY FEE’S \n\nWRANGLER – $125\nCOWBOY – $125\nRANCH HAND – $125\nJUNIOR – $125\nSENIOR – $125\nBDBD – $125\nJR YOUTH – $100\nSR YOUTH – $100\n\nENTRY FORM \nCONTACT INFO \n\nCheyenne Brown\n\nPhone – 502.767.1709\nAlt. Phone – 928.636.0378\nEmail – cbrown@olsensgrain.com\nPO Box 5301 | Chino Valley\, AZ 86323
URL:https://rhaa.org/event/chino-valley-az/
LOCATION:Olsen’s Arena\, 344 S Hwy 89\, Chino Valley\, Arizona\, 76323
ORGANIZER;CN="Cheyenne Brown":MAILTO:bcbrown91@gmail.com
END:VEVENT
END:VCALENDAR