BEGIN:VCALENDAR
VERSION:2.0
PRODID:-//RHAA - ECPv6.15.18//NONSGML v1.0//EN
CALSCALE:GREGORIAN
METHOD:PUBLISH
X-ORIGINAL-URL:https://rhaa.org
X-WR-CALDESC:Events for RHAA
REFRESH-INTERVAL;VALUE=DURATION:PT1H
X-Robots-Tag:noindex
X-PUBLISHED-TTL:PT1H
BEGIN:VTIMEZONE
TZID:America/Chicago
BEGIN:DAYLIGHT
TZOFFSETFROM:-0600
TZOFFSETTO:-0500
TZNAME:CDT
DTSTART:20200308T080000
END:DAYLIGHT
BEGIN:STANDARD
TZOFFSETFROM:-0500
TZOFFSETTO:-0600
TZNAME:CST
DTSTART:20201101T070000
END:STANDARD
BEGIN:DAYLIGHT
TZOFFSETFROM:-0600
TZOFFSETTO:-0500
TZNAME:CDT
DTSTART:20210314T080000
END:DAYLIGHT
BEGIN:STANDARD
TZOFFSETFROM:-0500
TZOFFSETTO:-0600
TZNAME:CST
DTSTART:20211107T070000
END:STANDARD
BEGIN:DAYLIGHT
TZOFFSETFROM:-0600
TZOFFSETTO:-0500
TZNAME:CDT
DTSTART:20220313T080000
END:DAYLIGHT
BEGIN:STANDARD
TZOFFSETFROM:-0500
TZOFFSETTO:-0600
TZNAME:CST
DTSTART:20221106T070000
END:STANDARD
END:VTIMEZONE
BEGIN:VEVENT
DTSTART;VALUE=DATE:20211002
DTEND;VALUE=DATE:20211003
DTSTAMP:20260424T064918
CREATED:20210201T194946Z
LAST-MODIFIED:20210816T184629Z
UID:10000005-1633132800-1633219199@rhaa.org
SUMMARY:EASTLAND\, TX - RESCHEDULED
DESCRIPTION:LEON RIVER \nRANCH HORSE COMPETITION\nOCTOBER 2\, 2021 | 10:00 A.M.\nLEON RIVER COWBOY CHURCH ARENA – EASTLAND\, TX\n  \nENTRY FEE’S \n\nJR YOUTH – $75\nSR YOUTH – $75\nBDBD – $100\nWRANGLER – $150\nCOWBOY – $175\nRANCH HAND – $175\nJUNIOR – $175\nSENIOR – $175\n\nEastland\, TX – Entry Form \nPlease remit entries by September 28st! \n  \nCONTACT \n\nJENNIFER FRANKLIN\nPHONE | 530-961-2606\nEMAIL | dukifer.franklin@yahoo.com\nADDRESS | 1042 CR 389 Gorman\, TX 76454\n\n 
URL:https://rhaa.org/event/eastland-tx-2/
LOCATION:Leon River Cowboy Church Arena\, 8787 Interstate 20 Access Rd\, Eastland\, TX\, United States
ORGANIZER;CN="Jennifer Franklin":MAILTO:dukifer.franklin@yahoo.com
GEO:32.4143144;-98.7453779
X-APPLE-STRUCTURED-LOCATION;VALUE=URI;X-ADDRESS=Leon River Cowboy Church Arena 8787 Interstate 20 Access Rd Eastland TX United States;X-APPLE-RADIUS=500;X-TITLE=8787 Interstate 20 Access Rd:geo:-98.7453779,32.4143144
END:VEVENT
END:VCALENDAR