BEGIN:VCALENDAR
VERSION:2.0
PRODID:-//RHAA - ECPv6.15.18//NONSGML v1.0//EN
CALSCALE:GREGORIAN
METHOD:PUBLISH
X-WR-CALNAME:RHAA
X-ORIGINAL-URL:https://rhaa.org
X-WR-CALDESC:Events for RHAA
REFRESH-INTERVAL;VALUE=DURATION:PT1H
X-Robots-Tag:noindex
X-PUBLISHED-TTL:PT1H
BEGIN:VTIMEZONE
TZID:America/Chicago
BEGIN:DAYLIGHT
TZOFFSETFROM:-0600
TZOFFSETTO:-0500
TZNAME:CDT
DTSTART:20190310T080000
END:DAYLIGHT
BEGIN:STANDARD
TZOFFSETFROM:-0500
TZOFFSETTO:-0600
TZNAME:CST
DTSTART:20191103T070000
END:STANDARD
BEGIN:DAYLIGHT
TZOFFSETFROM:-0600
TZOFFSETTO:-0500
TZNAME:CDT
DTSTART:20200308T080000
END:DAYLIGHT
BEGIN:STANDARD
TZOFFSETFROM:-0500
TZOFFSETTO:-0600
TZNAME:CST
DTSTART:20201101T070000
END:STANDARD
BEGIN:DAYLIGHT
TZOFFSETFROM:-0600
TZOFFSETTO:-0500
TZNAME:CDT
DTSTART:20210314T080000
END:DAYLIGHT
BEGIN:STANDARD
TZOFFSETFROM:-0500
TZOFFSETTO:-0600
TZNAME:CST
DTSTART:20211107T070000
END:STANDARD
END:VTIMEZONE
BEGIN:VEVENT
DTSTART;VALUE=DATE:20201107
DTEND;VALUE=DATE:20201108
DTSTAMP:20260425T082452
CREATED:20200115T195134Z
LAST-MODIFIED:20201026T154913Z
UID:10000062-1604707200-1604793599@rhaa.org
SUMMARY:CLARENDON COLLEGE - RANCH HORSE COMPETITION | CLARENDON\, TX
DESCRIPTION:CLARENDON COLLEGE \nRANCH HORSE COMPETITION\nNOVEMBER 7\, 2020 | 9:00 A.M.\nLIVESTOCK & EQUINE CENTER – CLARENDON\, TX\nENTRY FEE’S \n\nJR YOUTH – $75\nSR YOUTH – $125\nBDBD – $100\nWRANGLER – $150\nCOWBOY – $150\nRANCH HAND – $150\nJUNIOR – $150\nSENIOR – $150\n\nSHOW DAY NOTES \n\nThe day will begin with the High School Cowhorse at 8:00 A.M. The RHAA competition will follow.\nRHAA competition will start no sooner than 9:00 A.M.\nPlease make note of the RHAA class order: Senior\, Junior\, Ranch Hand\, Cowboy\, Wrangler\, BDBD\, Senior Youth & Junior Youth.\n\nCLARENDON\, TX | RHAA ENTRY FORM \nEntry Deadline – November 1st! \n  \n  \n  \n3 Year Old Ranch Horse Futurity & Ranch Cutting\nNovember 6\, 2020\nClarendon College will also be putting on a 3 Year Old Ranch Horse Futurity & Ranch Cutting on Friday\, November 6th. Please pre-enter by November 1st. See below for entry forms\, flyer & schedule! \nFUTURITY & RANCH CUTTING |ENTRY FORM\, FLYER & SCHEDULE \n  \nCONTACT \n\nGATLIN DUNCAN\nPHONE | 806-278-0087\nEMAIL | gatlin.duncan@clarendoncollege.edu\nADDRESS | PO BOX 1026 CLARENDON\, TX 79226\n\nALL ENTRIES TO BE MAILED OR EMAILED BY NOVEMBER 1ST. \n 
URL:https://rhaa.org/event/https-tinyurl-com-www-rhaa-org-clarendontxrhaa/
LOCATION:Clarendon College Livestock and Equine Center\, 1122 College Drive\, Clarendon\, TX\, 79226\, United States
ORGANIZER;CN="Gatlin Duncan":MAILTO:gatlinduncan@clarendoncollege.edu
GEO:34.944589;-100.9024097
X-APPLE-STRUCTURED-LOCATION;VALUE=URI;X-ADDRESS=Clarendon College Livestock and Equine Center 1122 College Drive Clarendon TX 79226 United States;X-APPLE-RADIUS=500;X-TITLE=1122 College Drive:geo:-100.9024097,34.944589
END:VEVENT
END:VCALENDAR