BEGIN:VCALENDAR
VERSION:2.0
PRODID:-//RHAA - ECPv6.15.18//NONSGML v1.0//EN
CALSCALE:GREGORIAN
METHOD:PUBLISH
X-WR-CALNAME:RHAA
X-ORIGINAL-URL:https://rhaa.org
X-WR-CALDESC:Events for RHAA
REFRESH-INTERVAL;VALUE=DURATION:PT1H
X-Robots-Tag:noindex
X-PUBLISHED-TTL:PT1H
BEGIN:VTIMEZONE
TZID:America/Chicago
BEGIN:DAYLIGHT
TZOFFSETFROM:-0600
TZOFFSETTO:-0500
TZNAME:CDT
DTSTART:20190310T080000
END:DAYLIGHT
BEGIN:STANDARD
TZOFFSETFROM:-0500
TZOFFSETTO:-0600
TZNAME:CST
DTSTART:20191103T070000
END:STANDARD
BEGIN:DAYLIGHT
TZOFFSETFROM:-0600
TZOFFSETTO:-0500
TZNAME:CDT
DTSTART:20200308T080000
END:DAYLIGHT
BEGIN:STANDARD
TZOFFSETFROM:-0500
TZOFFSETTO:-0600
TZNAME:CST
DTSTART:20201101T070000
END:STANDARD
BEGIN:DAYLIGHT
TZOFFSETFROM:-0600
TZOFFSETTO:-0500
TZNAME:CDT
DTSTART:20210314T080000
END:DAYLIGHT
BEGIN:STANDARD
TZOFFSETFROM:-0500
TZOFFSETTO:-0600
TZNAME:CST
DTSTART:20211107T070000
END:STANDARD
END:VTIMEZONE
BEGIN:VEVENT
DTSTART;VALUE=DATE:20201013
DTEND;VALUE=DATE:20201014
DTSTAMP:20260425T113427
CREATED:20200818T221054Z
LAST-MODIFIED:20201007T205007Z
UID:10000072-1602547200-1602633599@rhaa.org
SUMMARY:RHAA COMPETITION | THROCKMORTON\, TX
DESCRIPTION:R.A. BROWN RANCH – 125TH ANNIVERSARY\nRANCH HORSE COMPETITION\nOCTOBER 13\, 2020\nSTART TIME 8:00 A.M. | CHAMPION RUN-OFF 3:00 P.M.\nR.A. BROWN RANCH ARENA | 204 BROWN RANCH ROAD\nTHROCKMORTON\, TX\n  \nRHAA CLASSES: \n\nBDBD | $125\nWRANGLER | $150\nCOWBOY | $150\nRANCH HAND | $150\nJUNIOR | $150\nSENIOR | $150\n\nCLASS ORDER: \nSenior\, Junior\, Ranch Hand\, Cowboy\, Wrangler\, BDBD \n  \n  \nBOOKS OPEN SEPTEMBER 1ST & CLOSE OCTOBER 6TH. \nLIMITED TO THE FIRST 50 ENTRIES. \n  \nRHAA ENTRY FORM\n**$25/night stalls available. Call Connie Ray at 940-256-1824** \n  \nDraws are up! See link below…. \nDRAW LIST \n  \n  \nDON’T MISS OUT ON YOUR CHANCE TO ENTER! \n  \n\nPreston Williams’ buckles will be presented to each class champion!\nThe class champions of the Sr\, Jr\, Ranch Hand\, Cowboy & Wrangler will have the opportunity to compete in the Run-Off to determine the overall champion.\nA Jeff Smith ranch cutter saddle will be awarded to the overall champion!\n\n  \nCONTACT INFO: \n\nLOTTIE COGDELL\nPHONE | 806-406-9283\nTEXT | 806-422-0729\nEMAIL | ranchhorseassociation@yahoo.com\nADDRESS | PO BOX 285 SILVERTON\, TX 79257\n\n  \n 
URL:https://rhaa.org/event/rhaa-competition-throckmorton-tx/
LOCATION:R.A. Brown Ranch\, 204 Brown Ranch Road\, Throckmorton\, TX\, 76483\, United States
ORGANIZER;CN="RHAA":MAILTO:ranchhorseassociation@yahoo.com
END:VEVENT
END:VCALENDAR