BEGIN:VCALENDAR
VERSION:2.0
PRODID:-//RHAA - ECPv6.15.18//NONSGML v1.0//EN
CALSCALE:GREGORIAN
METHOD:PUBLISH
X-WR-CALNAME:RHAA
X-ORIGINAL-URL:https://rhaa.org
X-WR-CALDESC:Events for RHAA
REFRESH-INTERVAL;VALUE=DURATION:PT1H
X-Robots-Tag:noindex
X-PUBLISHED-TTL:PT1H
BEGIN:VTIMEZONE
TZID:America/Chicago
BEGIN:DAYLIGHT
TZOFFSETFROM:-0600
TZOFFSETTO:-0500
TZNAME:CDT
DTSTART:20190310T080000
END:DAYLIGHT
BEGIN:STANDARD
TZOFFSETFROM:-0500
TZOFFSETTO:-0600
TZNAME:CST
DTSTART:20191103T070000
END:STANDARD
BEGIN:DAYLIGHT
TZOFFSETFROM:-0600
TZOFFSETTO:-0500
TZNAME:CDT
DTSTART:20200308T080000
END:DAYLIGHT
BEGIN:STANDARD
TZOFFSETFROM:-0500
TZOFFSETTO:-0600
TZNAME:CST
DTSTART:20201101T070000
END:STANDARD
BEGIN:DAYLIGHT
TZOFFSETFROM:-0600
TZOFFSETTO:-0500
TZNAME:CDT
DTSTART:20210314T080000
END:DAYLIGHT
BEGIN:STANDARD
TZOFFSETFROM:-0500
TZOFFSETTO:-0600
TZNAME:CST
DTSTART:20211107T070000
END:STANDARD
END:VTIMEZONE
BEGIN:VEVENT
DTSTART;VALUE=DATE:20200926
DTEND;VALUE=DATE:20200927
DTSTAMP:20260425T100527
CREATED:20200706T170308Z
LAST-MODIFIED:20200902T180953Z
UID:10000069-1601078400-1601164799@rhaa.org
SUMMARY:RHAA COMPETITION | CANYON\, TX - CANCELLED
DESCRIPTION:PALO DURO COWBOY CHURCH\nRHAA COMPETITION\nSEPTEMBER 26\, 2020 \nSTART | 9:00 AM \nPALO DURO COWBOY CHURCH ARENA | 12200 US – 60 \nCANYON\, TX 79015 \n  \n  \nWE ARE SADDENED TO ANNOUNCE THAT THE CANYON\, TX RHAA COMPETITION HAS HAD TO CANCEL THIER PLANS TO HOST THE SCHEDULED SHOW. \n  \nFOR ANY QUESTIONS OR CONCERNS REGARDING THE CANCELLATION\,  \nPLEASE CONTACT THE RHAA OFFICE. \n  \n 
URL:https://rhaa.org/event/rhaa-competition-canyon-tx/
LOCATION:Palo Duro Cowboy Church Arena\, 12200 US - 60\, Canyon\, TX\, 79015\, United States
ORGANIZER;CN="Casey Wetsel":MAILTO:casey.wetsel@yahoo.com
END:VEVENT
END:VCALENDAR