BEGIN:VCALENDAR
VERSION:2.0
PRODID:-//RHAA - ECPv6.15.18//NONSGML v1.0//EN
CALSCALE:GREGORIAN
METHOD:PUBLISH
X-WR-CALNAME:RHAA
X-ORIGINAL-URL:https://rhaa.org
X-WR-CALDESC:Events for RHAA
REFRESH-INTERVAL;VALUE=DURATION:PT1H
X-Robots-Tag:noindex
X-PUBLISHED-TTL:PT1H
BEGIN:VTIMEZONE
TZID:America/Chicago
BEGIN:DAYLIGHT
TZOFFSETFROM:-0600
TZOFFSETTO:-0500
TZNAME:CDT
DTSTART:20210314T080000
END:DAYLIGHT
BEGIN:STANDARD
TZOFFSETFROM:-0500
TZOFFSETTO:-0600
TZNAME:CST
DTSTART:20211107T070000
END:STANDARD
BEGIN:DAYLIGHT
TZOFFSETFROM:-0600
TZOFFSETTO:-0500
TZNAME:CDT
DTSTART:20220313T080000
END:DAYLIGHT
BEGIN:STANDARD
TZOFFSETFROM:-0500
TZOFFSETTO:-0600
TZNAME:CST
DTSTART:20221106T070000
END:STANDARD
BEGIN:DAYLIGHT
TZOFFSETFROM:-0600
TZOFFSETTO:-0500
TZNAME:CDT
DTSTART:20230312T080000
END:DAYLIGHT
BEGIN:STANDARD
TZOFFSETFROM:-0500
TZOFFSETTO:-0600
TZNAME:CST
DTSTART:20231105T070000
END:STANDARD
END:VTIMEZONE
BEGIN:VEVENT
DTSTART;VALUE=DATE:20220403
DTEND;VALUE=DATE:20220404
DTSTAMP:20260423T183829
CREATED:20220224T210146Z
LAST-MODIFIED:20220311T235207Z
UID:10000013-1648944000-1649030399@rhaa.org
SUMMARY:LUBBOCK\, TX
DESCRIPTION:TEXAS TECH\nRANCH HORSE COMPETITION\nAPRIL 3\, 2022 | 10:00 A.M.\nTEXAS TECH EQUESTRIAN CENTER\nLUBBOCK\, TX\n\nRHAA CLASSES:\n\nJR YOUTH | $50\nSR YOUTH $50\nBDBD | $175\nWRANGLER | $175\nCOWBOY | $175\nRANCH HAND | $175\nJUNIOR | $175\nSENIOR | $175\n\nOnline Entry Form \n\n\nENTRY DEADLINE MARCH 28\, 2022! \n(All late entries will receive a $25 fee.) \n  \nSHOW INFO: \n\nPlease bring a current copy of your horses coggins. Health papers will be required of out of state horses.\nStalls will be available for purchase through the Texas Tech Equestrian Center. (806) 792-4682\n\n$30 per stall\, per night\n$10 per bag of shavings\n\n\nRV’s spots are all sold out.\n\n  \nCONTACT INFO: \n\nSARAH GARNER\nCALL or TEXT | 817.614.5496\nEMAIL | sarah.m.garner@ttu.edu\n\n  \n  \n  \n  \n 
URL:https://rhaa.org/event/lubbock-tx-3/
LOCATION:Texas Tech Equestrian Center\, 5712 County Road 1500\, Lubbock\, TX\, 79407\, United States
ORGANIZER;CN="Sarah Garner":MAILTO:sarah.m.garner@ttu.edu
END:VEVENT
BEGIN:VEVENT
DTSTART;VALUE=DATE:20220409
DTEND;VALUE=DATE:20220410
DTSTAMP:20260423T183829
CREATED:20210201T175051Z
LAST-MODIFIED:20211013T095844Z
UID:10000002-1649462400-1649548799@rhaa.org
SUMMARY:WAURIKA\, OK
DESCRIPTION:LOVING RANCH CO.\nRANCH HORSE COMPETITION\nAPRIL 9\, 2022\n10:00 A.M.\nREX DUNN COYOTE HILLS ARENA\nWAURIKA\, OK\n  \nENTRY FEE’S \n\nJUNIOR YOUTH – $90\nSENIOR YOUTH – $90\nBDBD – $100\nWRANGLER – $150\nCOWBOY – $150\nRANCH HAND – $150\nJUNIOR – $150\nSENIOR – $150\n\n  \nENTRY FORM \nOr try our Google Entry Form at the provided link: https://forms.gle/Hmky7js92LcLC3H68 \nEntry deadline: April 1\, 2022 \n  \nCONTACT INFO \n\nKelli Morgan\n\nPhone (Kelli) – 580.812.2839\nAlt. phone (Jimmy) – 580.465.9352\nEmail – lovingranchllc@gmail.com\nPO Box 673 | Wilson\, OK 73463
URL:https://rhaa.org/event/waurika-ok/
LOCATION:Coyote Hills Rex Dunn Arena\, Waurika\, OK\, 73573\, United States
ORGANIZER;CN="Kelli Morgan":MAILTO:lovingranchllc@gmail.com
END:VEVENT
BEGIN:VEVENT
DTSTART;VALUE=DATE:20220416
DTEND;VALUE=DATE:20220417
DTSTAMP:20260423T183829
CREATED:20220404T184535Z
LAST-MODIFIED:20220404T184535Z
UID:10000014-1650067200-1650153599@rhaa.org
SUMMARY:EARTH\, TX
DESCRIPTION:SANDHILL CATTLE CO. RHAA COMPETITION\nEARTH\, TX\nEARTH RODEO ARENA\nAPRIL 16\, 2022 | 9:00 A.M.\n  \nCLASS ORDER: \nSENIOR \nJUNIOR \nRANCH HAND \nCOWBOY \nWRANGLER \nBDBD \nSR YOUTH \nJR YOUTH \n  \nONLINE ENTRY FORM \nPlease bring your payment to the show. \nOnline entries will be close Thursday\, April 14th in order to draw classes. \nDay of show entries will be accepted with a late fee of $20 – all late entries will be added to the end of the draw. \n  \n 
URL:https://rhaa.org/event/earth-tx/
LOCATION:Earth Rodeo Arena\, Earth\, TX\, 79031\, United States
END:VEVENT
BEGIN:VEVENT
DTSTART;VALUE=DATE:20220423
DTEND;VALUE=DATE:20220424
DTSTAMP:20260423T183829
CREATED:20220106T203925Z
LAST-MODIFIED:20220310T150635Z
UID:10000080-1650672000-1650758399@rhaa.org
SUMMARY:CAMP VERDE\, AZ
DESCRIPTION:JACKPOT RANCH SPRING CLASSIC\nApril 23\, 2022 | 8:00 A.M.\n2025 w. RESERVATION LOOP \nCAMP VERDE\, AZ \nENTRY FEE’S \n\nWRANGLER – $150\nCOWBOY – $150\nRANCH HAND – $150\nJUNIOR – $150\nSENIOR – $150\nBDBD – $100\nJR YOUTH – $50\nSR YOUTH – $50\n\nCamp Verde\, AZ – Entry Form \nEntries due April 15\, 2022 \nPLEASE NOTE: Since this date lands after the 2022 qualifying cut-off\,  \nthis show will be a qualifier for the 2023 RHAA National Finals. \nCONTACT INFO \n\nKelley Hartranft\n\nPhone – 714.267.5912\nAlt. Phone – 928.300.5490\nEmail – klsgrn@yahoo.com\n416 Navajo Trail | Lake Kiowa\, TX 76240
URL:https://rhaa.org/event/camp-verde-az-2/
LOCATION:Jackpot Ranch\, 2025 W Reservation Loop Rd.\, Camp Verde\, 86322\, United States
END:VEVENT
END:VCALENDAR