BEGIN:VCALENDAR
VERSION:2.0
PRODID:-//RHAA - ECPv6.15.18//NONSGML v1.0//EN
CALSCALE:GREGORIAN
METHOD:PUBLISH
X-ORIGINAL-URL:https://rhaa.org
X-WR-CALDESC:Events for RHAA
REFRESH-INTERVAL;VALUE=DURATION:PT1H
X-Robots-Tag:noindex
X-PUBLISHED-TTL:PT1H
BEGIN:VTIMEZONE
TZID:America/Chicago
BEGIN:DAYLIGHT
TZOFFSETFROM:-0600
TZOFFSETTO:-0500
TZNAME:CDT
DTSTART:20210314T080000
END:DAYLIGHT
BEGIN:STANDARD
TZOFFSETFROM:-0500
TZOFFSETTO:-0600
TZNAME:CST
DTSTART:20211107T070000
END:STANDARD
BEGIN:DAYLIGHT
TZOFFSETFROM:-0600
TZOFFSETTO:-0500
TZNAME:CDT
DTSTART:20220313T080000
END:DAYLIGHT
BEGIN:STANDARD
TZOFFSETFROM:-0500
TZOFFSETTO:-0600
TZNAME:CST
DTSTART:20221106T070000
END:STANDARD
BEGIN:DAYLIGHT
TZOFFSETFROM:-0600
TZOFFSETTO:-0500
TZNAME:CDT
DTSTART:20230312T080000
END:DAYLIGHT
BEGIN:STANDARD
TZOFFSETFROM:-0500
TZOFFSETTO:-0600
TZNAME:CST
DTSTART:20231105T070000
END:STANDARD
END:VTIMEZONE
BEGIN:VEVENT
DTSTART;VALUE=DATE:20220305
DTEND;VALUE=DATE:20220306
DTSTAMP:20260423T201202
CREATED:20220114T204333Z
LAST-MODIFIED:20220119T165430Z
UID:10000082-1646438400-1646524799@rhaa.org
SUMMARY:EASTLAND\, TX
DESCRIPTION:LEON RIVER \nRANCH HORSE COMPETITION\nMARCH 5\, 2022 | 10:00 A.M.\nLEON RIVER COWBOY CHURCH ARENA – EASTLAND\, TX\n  \nENTRY FEE’S \n\nJR YOUTH – $75\nSR YOUTH – $75\nBDBD – $100\nWRANGLER – $150\nCOWBOY – $175\nRANCH HAND – $175\nJUNIOR – $175\nSENIOR – $175\n\nENTRY FORM \nENTRY DEADLINE MARCH 2\, 2022! \n  \nCONTACT \n\nJENNIFER FRANKLIN\nPHONE | 530-961-2606\nEMAIL | dukifer.franklin@yahoo.com\nADDRESS | 1042 CR 389 Gorman\, TX 76454\n\n 
URL:https://rhaa.org/event/eastland-tx-3/
LOCATION:Leon River Cowboy Church Arena\, 8787 Interstate 20 Access Rd\, Eastland\, TX\, United States
ORGANIZER;CN="Jennifer Franklin":MAILTO:dukifer.franklin@yahoo.com
GEO:32.4143144;-98.7453779
X-APPLE-STRUCTURED-LOCATION;VALUE=URI;X-ADDRESS=Leon River Cowboy Church Arena 8787 Interstate 20 Access Rd Eastland TX United States;X-APPLE-RADIUS=500;X-TITLE=8787 Interstate 20 Access Rd:geo:-98.7453779,32.4143144
END:VEVENT
BEGIN:VEVENT
DTSTART;VALUE=DATE:20220308
DTEND;VALUE=DATE:20220309
DTSTAMP:20260423T201202
CREATED:20220122T163113Z
LAST-MODIFIED:20220202T165951Z
UID:10000083-1646697600-1646783999@rhaa.org
SUMMARY:THROCKMORTON\, TX
DESCRIPTION:R.A. BROWN RANCH\nRANCH HORSE COMPETITION\nMARCH 8\, 2022\nR.A. BROWN RANCH ARENA | 204 BROWN RANCH ROAD\nTHROCKMORTON\, TX\n  \nRHAA CLASSES: \n\nJR YOUTH | $100\nSR YOUTH $100\nBDBD | $200\nWRANGLER | $250\nCOWBOY | $250\nRANCH HAND | $250\nJUNIOR | $250\nSENIOR | $250\n\n  \nCLASS ORDER: \nSenior\, Junior\, Ranch Hand\, Cowboy\, Wrangler\, BDBD\, SR Youth\, JR Youth \n  \n  \nBOOKS OPEN FEBRUARY 1ST & CLOSE FEBRUARY 28TH\, OR UNTIL FULL.  \nEntry fee’s will be non-refundable following March 4th. \n  \nONLINE ENTRY FORM \n  \n  \nDON’T MISS OUT ON YOUR CHANCE TO ENTER! \n  \n\nPreston Williams’ buckles will be presented to each class champion\, including the youth!\nThe class champions of the Sr\, Jr\, Ranch Hand\, Cowboy & Wrangler will have the opportunity to compete in the Run-Off to determine the overall champion.\nA Jeff Smith ranch cutter saddle will be awarded to the overall champion!\n\n  \nCONTACT INFO: \n\nLOTTIE COGDELL\nCALL or TEXT | 806-422-0729\nEMAIL | lottie.cogdell@gmail.com
URL:https://rhaa.org/event/throckmorton-tx/
LOCATION:R.A. Brown Ranch\, 204 Brown Ranch Road\, Throckmorton\, TX\, 76483\, United States
END:VEVENT
BEGIN:VEVENT
DTSTART;VALUE=DATE:20220312
DTEND;VALUE=DATE:20220314
DTSTAMP:20260423T201202
CREATED:20220122T171838Z
LAST-MODIFIED:20220202T165647Z
UID:10000011-1647043200-1647215999@rhaa.org
SUMMARY:CAMP VERDE\, AZ
DESCRIPTION:CAMP VERDE RANCH HORSE COMPETITION\nMARCH 12 & 13\, 2022 | 10:00 A.M.\n2025 W Reservation Loop Rd.\nJACKPOT RANCH | CAMP VERDE\, AZ\nENTRY FEE’S \n\nWRANGLER – $150\nCOWBOY – $150\nRANCH HAND – $150\nJUNIOR – $150\nSENIOR – $150\nBDBD – $150\nJR YOUTH – $100\nSR YOUTH – $100\n\n  \n  \nENTRY FORM \n  \n \n  \n  \nCONTACT INFO \n\nCheyenne Brown\n\nPhone – 502.767.1709\nEmail – cbrown@olsensgrain.com\nPO Box 5301 | Chino Valley\, AZ 86323
URL:https://rhaa.org/event/camp-verde-az-3/
LOCATION:Jackpot Ranch\, 2025 W Reservation Loop Rd.\, Camp Verde\, 86322\, United States
ORGANIZER;CN="Cheyenne Brown":MAILTO:bcbrown91@gmail.com
END:VEVENT
END:VCALENDAR