BEGIN:VCALENDAR
VERSION:2.0
PRODID:-//RHAA - ECPv6.15.18//NONSGML v1.0//EN
CALSCALE:GREGORIAN
METHOD:PUBLISH
X-WR-CALNAME:RHAA
X-ORIGINAL-URL:https://rhaa.org
X-WR-CALDESC:Events for RHAA
REFRESH-INTERVAL;VALUE=DURATION:PT1H
X-Robots-Tag:noindex
X-PUBLISHED-TTL:PT1H
BEGIN:VTIMEZONE
TZID:America/Chicago
BEGIN:DAYLIGHT
TZOFFSETFROM:-0600
TZOFFSETTO:-0500
TZNAME:CDT
DTSTART:20180311T080000
END:DAYLIGHT
BEGIN:STANDARD
TZOFFSETFROM:-0500
TZOFFSETTO:-0600
TZNAME:CST
DTSTART:20181104T070000
END:STANDARD
BEGIN:DAYLIGHT
TZOFFSETFROM:-0600
TZOFFSETTO:-0500
TZNAME:CDT
DTSTART:20190310T080000
END:DAYLIGHT
BEGIN:STANDARD
TZOFFSETFROM:-0500
TZOFFSETTO:-0600
TZNAME:CST
DTSTART:20191103T070000
END:STANDARD
BEGIN:DAYLIGHT
TZOFFSETFROM:-0600
TZOFFSETTO:-0500
TZNAME:CDT
DTSTART:20200308T080000
END:DAYLIGHT
BEGIN:STANDARD
TZOFFSETFROM:-0500
TZOFFSETTO:-0600
TZNAME:CST
DTSTART:20201101T070000
END:STANDARD
END:VTIMEZONE
BEGIN:VEVENT
DTSTART;VALUE=DATE:20191019
DTEND;VALUE=DATE:20191020
DTSTAMP:20260425T222845
CREATED:20180222T171626Z
LAST-MODIFIED:20190916T164209Z
UID:10000042-1571443200-1571529599@rhaa.org
SUMMARY:CLARENDON COLLEGE RHAA COMPETITION - CLARENDON\, TX
DESCRIPTION:Start Time: 9:00 a.m. \nLocation: Clarendon College Livestock & Equine Center \n  \nJudge: Jack McComber \n  \nEntry fees: \nBox Drive Box Drive | $75 \nWrangler\, Cowboy\, Ranch Hand\, Junior & Senior | $150 \n**Pre entry preferred by October 15th** \n  \nContact Gatlin Duncan at 806-278-0087 or gatlin.duncan@clarendoncollege.edu for more info. \n  \nCLARENDON\, TX – ENTRY FORM \n 
URL:https://rhaa.org/event/clarendon-college-rhaa-competition-clarendon-tx/
LOCATION:Clarendon College Livestock and Equine Center\, 1122 College Drive\, Clarendon\, TX\, 79226\, United States
ORGANIZER;CN="Gatlin Duncan":MAILTO:gatlinduncan@clarendoncollege.edu
GEO:34.944589;-100.9024097
X-APPLE-STRUCTURED-LOCATION;VALUE=URI;X-ADDRESS=Clarendon College Livestock and Equine Center 1122 College Drive Clarendon TX 79226 United States;X-APPLE-RADIUS=500;X-TITLE=1122 College Drive:geo:-100.9024097,34.944589
END:VEVENT
END:VCALENDAR