BEGIN:VCALENDAR
VERSION:2.0
PRODID:-//RHAA - ECPv6.15.18//NONSGML v1.0//EN
CALSCALE:GREGORIAN
METHOD:PUBLISH
X-ORIGINAL-URL:https://rhaa.org
X-WR-CALDESC:Events for RHAA
REFRESH-INTERVAL;VALUE=DURATION:PT1H
X-Robots-Tag:noindex
X-PUBLISHED-TTL:PT1H
BEGIN:VTIMEZONE
TZID:America/Chicago
BEGIN:DAYLIGHT
TZOFFSETFROM:-0600
TZOFFSETTO:-0500
TZNAME:CDT
DTSTART:20210314T080000
END:DAYLIGHT
BEGIN:STANDARD
TZOFFSETFROM:-0500
TZOFFSETTO:-0600
TZNAME:CST
DTSTART:20211107T070000
END:STANDARD
BEGIN:DAYLIGHT
TZOFFSETFROM:-0600
TZOFFSETTO:-0500
TZNAME:CDT
DTSTART:20220313T080000
END:DAYLIGHT
BEGIN:STANDARD
TZOFFSETFROM:-0500
TZOFFSETTO:-0600
TZNAME:CST
DTSTART:20221106T070000
END:STANDARD
BEGIN:DAYLIGHT
TZOFFSETFROM:-0600
TZOFFSETTO:-0500
TZNAME:CDT
DTSTART:20230312T080000
END:DAYLIGHT
BEGIN:STANDARD
TZOFFSETFROM:-0500
TZOFFSETTO:-0600
TZNAME:CST
DTSTART:20231105T070000
END:STANDARD
END:VTIMEZONE
BEGIN:VEVENT
DTSTART;VALUE=DATE:20220820
DTEND;VALUE=DATE:20220821
DTSTAMP:20260423T135131
CREATED:20220721T195139Z
LAST-MODIFIED:20220802T162515Z
UID:10000020-1660953600-1661039999@rhaa.org
SUMMARY:Guthrie\, OK
DESCRIPTION:Oklahoma Cattlemen’s Association Ranch Horse Competition\nAugust 20\, 2022 | 8:00 a.m.\nLazy E Arena | Guthrie\, OK\nJudge: Bozo Rogers\n\nENTRY FEES \n\nNOVICE BDBD – $90\nOPEN BDBD – $90\nWRANGLER – $90\nCOWBOY – $150\nRANCH HAND – $150\nJUNIOR – $150\nSENIOR – $150\nJUNIOR YOUTH – $75\nSENIOR YOUTH – $75\n\nCLASS ORDER // RHAA Pattern 2 \nWrangler\, Cowboy\, Ranch Hand\, Junior\, Senior\, Open BDBD\, Novice BDBD\, Junior Youth\, Senior Youth \nOCA RANCH HORSE COMPETITION ONLINE ENTRY FORM\nBooks close August 12\, 2022 \nOn-site entry not available. \nCONTACT INFO \n\nTiffani Pruitt\n\nPhone: 405-517-4234\nEmail: tpruitt@okcattlemen.org\n\n\nRobert Forst\n\n580-228-4192\nrobert@stuartranch.com
URL:https://rhaa.org/event/guthrie-ok-2/
LOCATION:Lazy E Arena\, 9600 Lazy E Dr.\, Guthrie\, Oklahoma\, 73044
ORGANIZER;CN="Robert Forst":MAILTO:robert@stuartranch.com
END:VEVENT
END:VCALENDAR