BEGIN:VCALENDAR
VERSION:2.0
PRODID:-//RHAA - ECPv6.15.18//NONSGML v1.0//EN
CALSCALE:GREGORIAN
METHOD:PUBLISH
X-ORIGINAL-URL:https://rhaa.org
X-WR-CALDESC:Events for RHAA
REFRESH-INTERVAL;VALUE=DURATION:PT1H
X-Robots-Tag:noindex
X-PUBLISHED-TTL:PT1H
BEGIN:VTIMEZONE
TZID:America/Chicago
BEGIN:DAYLIGHT
TZOFFSETFROM:-0600
TZOFFSETTO:-0500
TZNAME:CDT
DTSTART:20210314T080000
END:DAYLIGHT
BEGIN:STANDARD
TZOFFSETFROM:-0500
TZOFFSETTO:-0600
TZNAME:CST
DTSTART:20211107T070000
END:STANDARD
BEGIN:DAYLIGHT
TZOFFSETFROM:-0600
TZOFFSETTO:-0500
TZNAME:CDT
DTSTART:20220313T080000
END:DAYLIGHT
BEGIN:STANDARD
TZOFFSETFROM:-0500
TZOFFSETTO:-0600
TZNAME:CST
DTSTART:20221106T070000
END:STANDARD
BEGIN:DAYLIGHT
TZOFFSETFROM:-0600
TZOFFSETTO:-0500
TZNAME:CDT
DTSTART:20230312T080000
END:DAYLIGHT
BEGIN:STANDARD
TZOFFSETFROM:-0500
TZOFFSETTO:-0600
TZNAME:CST
DTSTART:20231105T070000
END:STANDARD
END:VTIMEZONE
BEGIN:VEVENT
DTSTART;TZID=America/Chicago:20220528T090000
DTEND;TZID=America/Chicago:20220528T170000
DTSTAMP:20260423T183828
CREATED:20220211T204326Z
LAST-MODIFIED:20220211T204339Z
UID:10000012-1653728400-1653757200@rhaa.org
SUMMARY:JUDGES SEMINAR
DESCRIPTION:RANCH HORSE ASSOCIATION OF AMERICA\nJUDGES SEMINAR\nMAY 28\, 2022 | 9:00 A.M.\nVIP ROOM\nTEXAS TECH EQUESTRIAN CENTER – LUBBOCK\, TX\n  \nJoin us for our upcoming RHAA Judges Seminar this May in Lubbock\, TX.  \nLed by seasoned & experienced judge\, Bozo Rogers\, this seminar will be one you don’t want to miss. Whether you are interest in becoming a certified RHAA judge or simply just wanting to learn more about how competitions are judged\, this day will cover all bases.  \nTo register\, please email or call the RHAA office with your RSVP by May 23rd.  \nSeminar fees due upon attending.  \n  \nSESSION 1 | SEMINAR \n\n$100\nJudging basics & rules of competing\n\n  \nSESSION 2 | CERTIFICATION \n\n$50\nTesting for RHAA Judge Certification\n\n  \nCONTACT \n\nLOTTIE COGDELL\nPHONE | 806-422-0729\nEMAIL | ranchhorseassociation@yahoo.com
URL:https://rhaa.org/event/judges-seminar-2/
LOCATION:Texas Tech Equestrian Center\, 5712 County Road 1500\, Lubbock\, TX\, 79407\, United States
ORGANIZER;CN="RHAA":MAILTO:ranchhorseassociation@yahoo.com
END:VEVENT
END:VCALENDAR