BEGIN:VCALENDAR
VERSION:2.0
PRODID:-//RHAA - ECPv6.15.18//NONSGML v1.0//EN
CALSCALE:GREGORIAN
METHOD:PUBLISH
X-ORIGINAL-URL:https://rhaa.org
X-WR-CALDESC:Events for RHAA
REFRESH-INTERVAL;VALUE=DURATION:PT1H
X-Robots-Tag:noindex
X-PUBLISHED-TTL:PT1H
BEGIN:VTIMEZONE
TZID:America/Chicago
BEGIN:DAYLIGHT
TZOFFSETFROM:-0600
TZOFFSETTO:-0500
TZNAME:CDT
DTSTART:20200308T080000
END:DAYLIGHT
BEGIN:STANDARD
TZOFFSETFROM:-0500
TZOFFSETTO:-0600
TZNAME:CST
DTSTART:20201101T070000
END:STANDARD
BEGIN:DAYLIGHT
TZOFFSETFROM:-0600
TZOFFSETTO:-0500
TZNAME:CDT
DTSTART:20210314T080000
END:DAYLIGHT
BEGIN:STANDARD
TZOFFSETFROM:-0500
TZOFFSETTO:-0600
TZNAME:CST
DTSTART:20211107T070000
END:STANDARD
BEGIN:DAYLIGHT
TZOFFSETFROM:-0600
TZOFFSETTO:-0500
TZNAME:CDT
DTSTART:20220313T080000
END:DAYLIGHT
BEGIN:STANDARD
TZOFFSETFROM:-0500
TZOFFSETTO:-0600
TZNAME:CST
DTSTART:20221106T070000
END:STANDARD
END:VTIMEZONE
BEGIN:VEVENT
DTSTART;VALUE=DATE:20211112
DTEND;VALUE=DATE:20211114
DTSTAMP:20260424T035025
CREATED:20200728T231049Z
LAST-MODIFIED:20211110T125432Z
UID:10000071-1636675200-1636847999@rhaa.org
SUMMARY:AMARILLO\, TX
DESCRIPTION:WRCA WORLD CHAMPIONSHIP RANCH RODEO\nRANCH HORSE COMPETITION\nNOVEMBER 12 & 13\, 2021 \nAMARILLO CIVIC CENTER | 401 S BUCHANAN ST. \nAMARILLO\, TEXAS \n  \nSCHEDULE \n\nFRIDAY | NOV. 12TH\n\n7:00 AM – NOON | WRANGLER\, RANCH HAND\, JUNIOR & SENIOR\n\n\nSATURDAY | NOV. 13TH\n\n7:00 AM – 10:00 AM | COWBOY & BDBD\n\n\n**UPDATE**  \n\nPLEASE MAKE NOTE\, THERE WILL BE NO RUN-OFF THIS YEAR PROCEEDING THE COMPETITION\n\n\n\n  \n  \nENTRY FEES \n\nBDBD | $140\nWRANGLER | $140\nCOWBOY | $140\nRANCH HAND | $140\nJUNIOR | $140\nSENIOR | $140\n\n  \nDRAWS \n  \n  \nBooks open October 1st. Books close October 30th. \nPlease do not postmark entries BEFORE September 27th. \n  \nINFORMATIVE LETTER \nENTRY FORM \nLIABILITY FORM \n  \nCONTACT INFORMATION \n\nJODI LONKER\nPHONE: 620-886-3311\nEMAIL: djctlonker@yahoo.com\nADDRESS: 3202 SW Twin Peaks Rd. | Medicine Lodge\, KS 67104\n\n 
URL:https://rhaa.org/event/rhaa-competition-amarillo-tx/
LOCATION:Amarillo Civic Center\, 401 S Buchanan St\, \, TX \, Amarillo\, TX\, 79101\, United States
ORGANIZER;CN="WRCA-Jodi Lonker":MAILTO:djctlonker@yahoo.com
GEO:35.2085367;-101.8304614
X-APPLE-STRUCTURED-LOCATION;VALUE=URI;X-ADDRESS=Amarillo Civic Center 401 S Buchanan St  TX  Amarillo TX 79101 United States;X-APPLE-RADIUS=500;X-TITLE=401 S Buchanan St\, \, TX:geo:-101.8304614,35.2085367
END:VEVENT
END:VCALENDAR