BEGIN:VCALENDAR
VERSION:2.0
PRODID:-//RHAA - ECPv6.15.18//NONSGML v1.0//EN
CALSCALE:GREGORIAN
METHOD:PUBLISH
X-ORIGINAL-URL:https://rhaa.org
X-WR-CALDESC:Events for RHAA
REFRESH-INTERVAL;VALUE=DURATION:PT1H
X-Robots-Tag:noindex
X-PUBLISHED-TTL:PT1H
BEGIN:VTIMEZONE
TZID:America/Chicago
BEGIN:DAYLIGHT
TZOFFSETFROM:-0600
TZOFFSETTO:-0500
TZNAME:CDT
DTSTART:20200308T080000
END:DAYLIGHT
BEGIN:STANDARD
TZOFFSETFROM:-0500
TZOFFSETTO:-0600
TZNAME:CST
DTSTART:20201101T070000
END:STANDARD
BEGIN:DAYLIGHT
TZOFFSETFROM:-0600
TZOFFSETTO:-0500
TZNAME:CDT
DTSTART:20210314T080000
END:DAYLIGHT
BEGIN:STANDARD
TZOFFSETFROM:-0500
TZOFFSETTO:-0600
TZNAME:CST
DTSTART:20211107T070000
END:STANDARD
BEGIN:DAYLIGHT
TZOFFSETFROM:-0600
TZOFFSETTO:-0500
TZNAME:CDT
DTSTART:20220313T080000
END:DAYLIGHT
BEGIN:STANDARD
TZOFFSETFROM:-0500
TZOFFSETTO:-0600
TZNAME:CST
DTSTART:20221106T070000
END:STANDARD
END:VTIMEZONE
BEGIN:VEVENT
DTSTART;VALUE=DATE:20210827
DTEND;VALUE=DATE:20210828
DTSTAMP:20260424T082755
CREATED:20210520T223829Z
LAST-MODIFIED:20210816T185209Z
UID:10000075-1630022400-1630108799@rhaa.org
SUMMARY:ROARING SPRINGS\, TX
DESCRIPTION:OLD SETTLERS\nRHAA COMPETITION\nAUGUST 27\, 2021\n8:00 AM\nROARING SPRINGS\, TX\n  \nRHAA CLASSES\n\nJr. Youth – $90\nSr. Youth – $90\nBox-Drive-Box-Drive – $100\nWrangler – $150\nCowboy – $150\nRanch Hand – $150\nJunior – $150\nSenior – $150\n\n  \nROARING SPRINGS\, TX | RHAA ENTRY FORM\nEntry deadline has been extended! Please remit entries by Aug. 20th \n  \nCONTACT INFORMATION \nEmily Smith \n\nPhone | 806.269.3328\nEmail | smithbarrelhorses@yahoo.com\n1741 State Hwy 70 | Spur\, TX 79370\n\n 
URL:https://rhaa.org/event/roaring-springs-tx/
LOCATION:Old Settlers Rodeo Grounds\, Roaring Springs\, TX\, 79256\, United States
ORGANIZER;CN="Emily Smith":MAILTO:smithbarrelhorses@yahoo.com
GEO:33.8995237;-100.85708
END:VEVENT
END:VCALENDAR