BEGIN:VCALENDAR
VERSION:2.0
PRODID:-//RHAA - ECPv6.15.18//NONSGML v1.0//EN
CALSCALE:GREGORIAN
METHOD:PUBLISH
X-WR-CALNAME:RHAA
X-ORIGINAL-URL:https://rhaa.org
X-WR-CALDESC:Events for RHAA
REFRESH-INTERVAL;VALUE=DURATION:PT1H
X-Robots-Tag:noindex
X-PUBLISHED-TTL:PT1H
BEGIN:VTIMEZONE
TZID:America/Chicago
BEGIN:DAYLIGHT
TZOFFSETFROM:-0600
TZOFFSETTO:-0500
TZNAME:CDT
DTSTART:20200308T080000
END:DAYLIGHT
BEGIN:STANDARD
TZOFFSETFROM:-0500
TZOFFSETTO:-0600
TZNAME:CST
DTSTART:20201101T070000
END:STANDARD
BEGIN:DAYLIGHT
TZOFFSETFROM:-0600
TZOFFSETTO:-0500
TZNAME:CDT
DTSTART:20210314T080000
END:DAYLIGHT
BEGIN:STANDARD
TZOFFSETFROM:-0500
TZOFFSETTO:-0600
TZNAME:CST
DTSTART:20211107T070000
END:STANDARD
BEGIN:DAYLIGHT
TZOFFSETFROM:-0600
TZOFFSETTO:-0500
TZNAME:CDT
DTSTART:20220313T080000
END:DAYLIGHT
BEGIN:STANDARD
TZOFFSETFROM:-0500
TZOFFSETTO:-0600
TZNAME:CST
DTSTART:20221106T070000
END:STANDARD
END:VTIMEZONE
BEGIN:VEVENT
DTSTART;VALUE=DATE:20210730
DTEND;VALUE=DATE:20210731
DTSTAMP:20260424T100705
CREATED:20210705T143459Z
LAST-MODIFIED:20210705T160630Z
UID:10000076-1627603200-1627689599@rhaa.org
SUMMARY:CAMP VERDE\, AZ
DESCRIPTION:CAMP VERDE RANCH HORSE COMPETITION\nJULY 30\, 2021 | 9:00 A.M.\n2025 W Reservation Loop Rd.\nJACKPOT RANCH | CAMP VERDE\, AZ\nENTRY FEE’S \n\nWRANGLER – $150\nCOWBOY – $150\nRANCH HAND – $150\nJUNIOR – $150\nSENIOR – $150\nBDBD – $150\nJR YOUTH – $100\nSR YOUTH – $100\n\nCamp Verde\, AZ | Entry Form \nPlease make checks payable to Logan Anderson \nCONTACT INFO \n\nCheyenne Brown\n\nPhone – 502.767.1709\nEmail – bcbrown91@gmail.com\nPO Box 5301 | Chino Valley\, AZ 86323
URL:https://rhaa.org/event/camp-verde-az/
LOCATION:Jackpot Ranch\, 2025 W Reservation Loop Rd.\, Camp Verde\, 86322\, United States
ORGANIZER;CN="Cheyenne Brown":MAILTO:bcbrown91@gmail.com
END:VEVENT
END:VCALENDAR