BEGIN:VCALENDAR
VERSION:2.0
PRODID:-//RHAA - ECPv6.15.18//NONSGML v1.0//EN
CALSCALE:GREGORIAN
METHOD:PUBLISH
X-WR-CALNAME:RHAA
X-ORIGINAL-URL:https://rhaa.org
X-WR-CALDESC:Events for RHAA
REFRESH-INTERVAL;VALUE=DURATION:PT1H
X-Robots-Tag:noindex
X-PUBLISHED-TTL:PT1H
BEGIN:VTIMEZONE
TZID:America/Chicago
BEGIN:DAYLIGHT
TZOFFSETFROM:-0600
TZOFFSETTO:-0500
TZNAME:CDT
DTSTART:20190310T080000
END:DAYLIGHT
BEGIN:STANDARD
TZOFFSETFROM:-0500
TZOFFSETTO:-0600
TZNAME:CST
DTSTART:20191103T070000
END:STANDARD
BEGIN:DAYLIGHT
TZOFFSETFROM:-0600
TZOFFSETTO:-0500
TZNAME:CDT
DTSTART:20200308T080000
END:DAYLIGHT
BEGIN:STANDARD
TZOFFSETFROM:-0500
TZOFFSETTO:-0600
TZNAME:CST
DTSTART:20201101T070000
END:STANDARD
BEGIN:DAYLIGHT
TZOFFSETFROM:-0600
TZOFFSETTO:-0500
TZNAME:CDT
DTSTART:20210314T080000
END:DAYLIGHT
BEGIN:STANDARD
TZOFFSETFROM:-0500
TZOFFSETTO:-0600
TZNAME:CST
DTSTART:20211107T070000
END:STANDARD
END:VTIMEZONE
BEGIN:VEVENT
DTSTART;VALUE=DATE:20200919
DTEND;VALUE=DATE:20200920
DTSTAMP:20260425T083024
CREATED:20170517T001917Z
LAST-MODIFIED:20200821T090307Z
UID:10000024-1600473600-1600559999@rhaa.org
SUMMARY:RHAA COMPETITION | EASTLAND\, TX
DESCRIPTION:LEON RIVER RANCH HORSE COMPETITION\nSEPTEMBER 19\, 2020\nCHECK-IN 8:00 | START 9:00\nLEON RIVER COWBOY CHURCH\n491 CR 447 | EASTLAND\, TX\n  \nRHAA CLASSES \n\nJR YOUTH (12 & UNDER)\nSR YOUTH (13 – 18)\nBDBD – $75\nWRANGLER – $110\nCOWBOY – $135\nRANCH HAND – $135\nJUNIOR – $135\nSENIOR – $135\n\nPLEASE PRE-ENTER BY SEPTEMBER 16TH. \nEASTLAND\, TX | RHAA ENTRY FORM \n  \nLEON RIVER WILL ALSO BE HOSTING A RANCH CUTTING PRACTICE WORK.  \nPLEASE SEE END OF PAGE FOR MORE DETAILS. \n  \n  \nPENS WILL BE AVAILABLE TO ANYONE NEEDING TO PUT A HORSE UP OVER NIGHT AT NO CHARGE. \nRV’s ARE ALLOWED\, BUT NO HOOKUPS ARE AVAILABLE. \nRHAA SHOW CONTACT \n\nJOYCE MEHAN\nPHONE | 254-396-5373\nALT. PHONE | 254-629-8054\nEMAIL | jthorses19@ymail.com\nADDRESS | 1716 Hwy 570 Eastland\, TX 76448\n\n  \n  \nRANCH CUTTING PRACTICE WORK \nSEPTEMBER 18\, 2020 | 6:00 P.M. \n$40 FOR 4 MINUTES \nDEADLINE SEPTEMBER 16TH \nPLEASE CALL CRAIG HICKMAN AT 325-642-7903 FOR MORE RANCH CUTTING INFORMATION. \n  \n 
URL:https://rhaa.org/event/leon-river-cowboy-church-rhaa-competition-olden-tx/
LOCATION:Leon River Cowboy Church Arena\, 8787 Interstate 20 Access Rd\, Eastland\, TX\, United States
ORGANIZER;CN="Joyce Mehan":MAILTO:jthorses19@ymail.com
GEO:32.4143144;-98.7453779
X-APPLE-STRUCTURED-LOCATION;VALUE=URI;X-ADDRESS=Leon River Cowboy Church Arena 8787 Interstate 20 Access Rd Eastland TX United States;X-APPLE-RADIUS=500;X-TITLE=8787 Interstate 20 Access Rd:geo:-98.7453779,32.4143144
END:VEVENT
END:VCALENDAR