BEGIN:VCALENDAR
VERSION:2.0
PRODID:-//RHAA - ECPv6.15.18//NONSGML v1.0//EN
CALSCALE:GREGORIAN
METHOD:PUBLISH
X-ORIGINAL-URL:https://rhaa.org
X-WR-CALDESC:Events for RHAA
REFRESH-INTERVAL;VALUE=DURATION:PT1H
X-Robots-Tag:noindex
X-PUBLISHED-TTL:PT1H
BEGIN:VTIMEZONE
TZID:America/Chicago
BEGIN:DAYLIGHT
TZOFFSETFROM:-0600
TZOFFSETTO:-0500
TZNAME:CDT
DTSTART:20190310T080000
END:DAYLIGHT
BEGIN:STANDARD
TZOFFSETFROM:-0500
TZOFFSETTO:-0600
TZNAME:CST
DTSTART:20191103T070000
END:STANDARD
BEGIN:DAYLIGHT
TZOFFSETFROM:-0600
TZOFFSETTO:-0500
TZNAME:CDT
DTSTART:20200308T080000
END:DAYLIGHT
BEGIN:STANDARD
TZOFFSETFROM:-0500
TZOFFSETTO:-0600
TZNAME:CST
DTSTART:20201101T070000
END:STANDARD
BEGIN:DAYLIGHT
TZOFFSETFROM:-0600
TZOFFSETTO:-0500
TZNAME:CDT
DTSTART:20210314T080000
END:DAYLIGHT
BEGIN:STANDARD
TZOFFSETFROM:-0500
TZOFFSETTO:-0600
TZNAME:CST
DTSTART:20211107T070000
END:STANDARD
END:VTIMEZONE
BEGIN:VEVENT
DTSTART;VALUE=DATE:20200918
DTEND;VALUE=DATE:20200919
DTSTAMP:20260425T083052
CREATED:20200706T182954Z
LAST-MODIFIED:20200715T071813Z
UID:10000070-1600387200-1600473599@rhaa.org
SUMMARY:RHAA COMPETITION | PRESCOTT\, AZ
DESCRIPTION:LEGACY RANCH HORSE VERSATILITY SHOW\nRHAA COMPETITION\nSEPTEMBER 18\, 2020 \nSTART | 7:30 AM \nPRESCOTT RODEO GROUNDS \n840 RODEO DR. | PRESCOTT\, AZ 86305 \n  \nENTRY FEES \n\nBOX DRIVE BOX DRIVE | $110\nWRANGLER | $110\nCOWBOY | $110\nRANCH HAND | $110\nJUNIOR | $110\nSENIOR | $110\n\nPrescott\, AZ | RHAA Entry Form \nPre-entering encouraged by September 14th! \nCONTACT INFORMATION \n\nRHAA Office | Lottie Cogdell\nPhone: 806-406-9283\nText: 806-422-0729\nEmail: ranchhorseassociation@yahoo.com\nAddress: PO Box 285 | Silverton\, TX 79257\n\n 
URL:https://rhaa.org/event/rhaa-competition-prescott-az/
LOCATION:Prescott Rodeo Grounds\, 840 Rodeo Dr.\, Prescott\, AZ\, 86305\, United States
ORGANIZER;CN="RHAA":MAILTO:ranchhorseassociation@yahoo.com
END:VEVENT
END:VCALENDAR