BEGIN:VCALENDAR
VERSION:2.0
PRODID:-//RHAA - ECPv6.15.18//NONSGML v1.0//EN
CALSCALE:GREGORIAN
METHOD:PUBLISH
X-ORIGINAL-URL:https://rhaa.org
X-WR-CALDESC:Events for RHAA
REFRESH-INTERVAL;VALUE=DURATION:PT1H
X-Robots-Tag:noindex
X-PUBLISHED-TTL:PT1H
BEGIN:VTIMEZONE
TZID:America/Chicago
BEGIN:DAYLIGHT
TZOFFSETFROM:-0600
TZOFFSETTO:-0500
TZNAME:CDT
DTSTART:20190310T080000
END:DAYLIGHT
BEGIN:STANDARD
TZOFFSETFROM:-0500
TZOFFSETTO:-0600
TZNAME:CST
DTSTART:20191103T070000
END:STANDARD
BEGIN:DAYLIGHT
TZOFFSETFROM:-0600
TZOFFSETTO:-0500
TZNAME:CDT
DTSTART:20200308T080000
END:DAYLIGHT
BEGIN:STANDARD
TZOFFSETFROM:-0500
TZOFFSETTO:-0600
TZNAME:CST
DTSTART:20201101T070000
END:STANDARD
BEGIN:DAYLIGHT
TZOFFSETFROM:-0600
TZOFFSETTO:-0500
TZNAME:CDT
DTSTART:20210314T080000
END:DAYLIGHT
BEGIN:STANDARD
TZOFFSETFROM:-0500
TZOFFSETTO:-0600
TZNAME:CST
DTSTART:20211107T070000
END:STANDARD
END:VTIMEZONE
BEGIN:VEVENT
DTSTART;VALUE=DATE:20200828
DTEND;VALUE=DATE:20200829
DTSTAMP:20260425T100257
CREATED:20200218T191027Z
LAST-MODIFIED:20200728T224553Z
UID:10000068-1598572800-1598659199@rhaa.org
SUMMARY:RHAA COMPETITION | ROARING SPRINGS\, TX
DESCRIPTION:OLD SETTLERS\nRHAA COMPETITION\nAUGUST 28\, 2020\n8:30 AM\nROARING SPRINGS\, TX\n  \nRHAA CLASSES\n\nJr. Youth – $80\nSr. Youth – $80\nBox-Drive-Box-Drive – $90\nWrangler – $150\nCowboy – $150\nRanch Hand – $150\nJunior – $150\nSenior – $150\n\n  \nRoaring Springs\, TX – RHAA Competition Entry Form\nPlease pre-enter by August 21\, 2020.  A fee of $20 will apply to late entries. \n  \nCONTACT INFORMATION \n\nEmily Smith\nPhone | 806.269.3328\nEmail | smithbarrelhorses@yahoo.com\n1741 State Hwy 70 | Spur\, TX 79370\n\n 
URL:https://rhaa.org/event/old-settlers-rhaa-competition-roaring-springs-tx/
LOCATION:Old Settlers Rodeo Grounds\, Roaring Springs\, TX\, 79256\, United States
ORGANIZER;CN="Emily Smith":MAILTO:smithbarrelhorses@yahoo.com
GEO:33.8995237;-100.85708
END:VEVENT
END:VCALENDAR